BEGIN:VCALENDAR
VERSION:2.0
PRODID:-//Tukios.com/
BEGIN:VEVENT
UID:5f28af1b-1262-40bd-a192-1d3b627ccfd5@www.swainfuneralhome.com
DTSTAMP:20260420T012516Z
DTSTART:20260425T140000Z
DTEND:20260425T150000Z
SUMMARY:Visitation
DESCRIPTION:
URL:https://www.swainfuneralhome.com/obituaries/herschel-franks
LOCATION:Swain Funeral Home 1632 Hatch Parkway N  Baxley GA 31513
GEO:31.8008339;-82.3487248
END:VEVENT
END:VCALENDAR