BEGIN:VCALENDAR
VERSION:2.0
PRODID:-//Tukios.com/
BEGIN:VEVENT
UID:6b9cc40f-a420-45b4-9882-b4c5d50f05e1@www.swainfuneralhome.com
DTSTAMP:20260420T012517Z
DTSTART:20260425T150000Z
DTEND:20260425T160000Z
SUMMARY:Funeral Service
DESCRIPTION:
URL:https://www.swainfuneralhome.com/obituaries/herschel-franks
LOCATION:Swain Funeral Home 1632 Hatch Parkway N  Baxley GA 31513
GEO:31.8008339;-82.3487248
END:VEVENT
END:VCALENDAR