BEGIN:VCALENDAR
VERSION:2.0
PRODID:-//Tukios.com/
BEGIN:VEVENT
UID:24acaa3d-9e43-403e-b148-b27d0036c6ff@www.swainfuneralhome.com
DTSTAMP:20260424T194454Z
DTSTART:20260426T190000Z
DTEND:20260426T200000Z
SUMMARY:Memorial Service
DESCRIPTION:
URL:https://www.swainfuneralhome.com/obituaries/richard-reynolds
LOCATION: 355 Baxley Highway  Hazlehurst GA 31539
GEO:31.8567701;-82.56649
END:VEVENT
END:VCALENDAR