BEGIN:VCALENDAR
VERSION:2.0
PRODID:-//Tukios.com/
BEGIN:VEVENT
UID:acd7ac59-442b-4e9e-bd85-64df7a13e641@www.swainfuneralhome.com
DTSTAMP:20260424T193722Z
DTSTART:20260426T180000Z
DTEND:20260426T190000Z
SUMMARY:Visitation
DESCRIPTION:
URL:https://www.swainfuneralhome.com/obituaries/richard-reynolds
LOCATION: 355 Baxley Highway  Hazlehurst GA 31539
GEO:31.8567701;-82.56649
END:VEVENT
END:VCALENDAR